BEGIN:VCALENDAR
VERSION:2.0
PRODID:-//Fast and sensible action - ECPv4.5.9//NONSGML v1.0//EN
CALSCALE:GREGORIAN
METHOD:PUBLISH
X-WR-CALNAME:Fast and sensible action
X-ORIGINAL-URL:https://actionparty.com.au
X-WR-CALDESC:Events for Fast and sensible action
BEGIN:VEVENT
DTSTART;TZID=Australia/Melbourne:20120802T080000
DTEND;TZID=Australia/Melbourne:20120802T170059
DTSTAMP:20190226T041632
CREATED:20120617T130641Z
LAST-MODIFIED:20120617T130641Z
UID:168-1343894400-1343926859@actionparty.com.au
SUMMARY:Curabitur Magna Lacus
DESCRIPTION:Nunc tempor sodales metus\, sed tristique metus vestibulum molestie. Vestibulum ut nisl sed lectus pretium porta. Aenean iaculis imperdiet rutrum. Nulla cursus mi et libero blandit malesuada. Cras rhoncus posuere eros eu sodales. Proin eget libero tortor. Morbi neque nulla\, rutrum ac cursus sit amet\, elementum vitae magna. In ultricies sem id sapien gravida consectetur. Cras elementum posuere odio eget imperdiet. Curabitur mattis tempor leo a mollis. Nullam nibh mi\, iaculis eu euismod sed\, feugiat semper ante. Ut aliquam ultrices eros\, eget elementum enim consectetur vitae. \nNullam at lorem ante. Vestibulum enim nunc\, adipiscing sed imperdiet a\, consequat et lorem. Mauris nisl felis\, interdum id ultricies non\, feugiat vitae magna. Nullam dignissim ipsum ut nisl condimentum eget lacinia nisi hendrerit. Morbi dolor odio\, lacinia vel tincidunt ac\, egestas vel enim. Proin venenatis risus pellentesque nibh mollis tempor. Praesent ultricies nibh eu tellus tincidunt at tempor enim vestibulum. Duis euismod tincidunt nunc non dignissim. Integer vitae ante purus.  \n
URL:https://actionparty.com.au/event/curabitur-magna-lacus/
LOCATION:1560 Broadway\, New York\, NY\, 10036\, United States
END:VEVENT
END:VCALENDAR